BEGIN:VCALENDAR
VERSION:2.0
PRODID:-//O’Tooles GAC | Gaelic Athletic Club - ECPv6.15.20//NONSGML v1.0//EN
CALSCALE:GREGORIAN
METHOD:PUBLISH
X-WR-CALNAME:O’Tooles GAC | Gaelic Athletic Club
X-ORIGINAL-URL:https://otoolesgac.ie
X-WR-CALDESC:Events for O’Tooles GAC | Gaelic Athletic Club
REFRESH-INTERVAL;VALUE=DURATION:PT1H
X-Robots-Tag:noindex
X-PUBLISHED-TTL:PT1H
BEGIN:VTIMEZONE
TZID:Europe/Dublin
BEGIN:STANDARD
TZOFFSETFROM:+0000
TZOFFSETTO:+0100
TZNAME:IST
DTSTART:20200329T010000
END:STANDARD
BEGIN:DAYLIGHT
TZOFFSETFROM:+0100
TZOFFSETTO:+0000
TZNAME:GMT
DTSTART:20201025T010000
END:DAYLIGHT
BEGIN:STANDARD
TZOFFSETFROM:+0000
TZOFFSETTO:+0100
TZNAME:IST
DTSTART:20210328T010000
END:STANDARD
BEGIN:DAYLIGHT
TZOFFSETFROM:+0100
TZOFFSETTO:+0000
TZNAME:GMT
DTSTART:20211031T010000
END:DAYLIGHT
BEGIN:STANDARD
TZOFFSETFROM:+0000
TZOFFSETTO:+0100
TZNAME:IST
DTSTART:20220327T010000
END:STANDARD
BEGIN:DAYLIGHT
TZOFFSETFROM:+0100
TZOFFSETTO:+0000
TZNAME:GMT
DTSTART:20221030T010000
END:DAYLIGHT
END:VTIMEZONE
BEGIN:VEVENT
DTSTART;TZID=Europe/Dublin:20210402T180000
DTEND;TZID=Europe/Dublin:20210402T210000
DTSTAMP:20260423T001014
CREATED:20210323T104009Z
LAST-MODIFIED:20210331T160929Z
UID:7452-1617386400-1617397200@otoolesgac.ie
SUMMARY:Easter Raffle - Minor Football & Hurling Fundraiser
DESCRIPTION:No Easter celebration is complete without a Lindt gold bunny – or 10!\nThe bunny makes an appearance every year\, as soon as spring has sprung. Perfectly formed in creamy Swiss milk chocolate\, he’s wrapped in signature gold foil and topped with the famous shiny bell around his neck. \nHere is your chance to win a very rare 1kg chocolate bunny as a top prize. \nRunner up prizes include freshly made afternoon tea from the Maldron Hotel and a selection of Easter eggs. \nThe raffle is for a great cause .. \nto fund the Minor hurling and football training budget \nEaster raffle to be held on Good Friday. Prizes will be available for pick up at O’Tooles at 1pm on Easter Saturday. Please buy a ticket and feel free to share and tell your friends. \n1st prize\nLindt 1KG Chocolate Bunny \n \n2nd Prize\nHand made chocolate egg in a basket from Donnybrook Fair \n \n3rd\, 4th and 5th prize\nFreshly made take away afternoon tea for two from The Maldron Hotel \n \n6th to 11th Prize\nOne Easter egg from a selection of popular brands \n \nTicket prices: (Just make your selection below) \n1 ticket: €5 \n3 tickets €10 \n7 tickets €20 \n[gravityform id=”25″ title=”false” description=”false” ajax=”true”]
URL:https://otoolesgac.ie/event/easter-raffle-minor-football-hurling-fundraiser/
ATTACH;FMTTYPE=image/jpeg:https://otoolesgac.ie/wp-content/uploads/2021/03/Image-5.jpg
ORGANIZER;CN="Minor Football & Hurling":MAILTO:johnoloughlin1976@gmail.com
END:VEVENT
END:VCALENDAR